
BEGIN:VCALENDAR
VERSION:2.0
PRODID:-//85.13.157.133//NONSGML kigkonsult.se iCalcreator 2.20//
CALSCALE:GREGORIAN
METHOD:PUBLISH
X-WR-TIMEZONE:Europe/Berlin
BEGIN:VEVENT
UID:event806@NaturFreunde Bielefeld e.V.
DTSTAMP:20260420T060021Z
CATEGORIES:Kultur
DESCRIPTION:Immer noch Klimawandel\nKategorie: Kultur\nICS-Link: https://ww
 w.test.naturfreunde-bielefeld.de/index.php?option=com_jem&view=event&id=80
 6:immer-noch-klimawandel\n
DTSTART;VALUE=DATE:20250221
DTEND;VALUE=DATE:20250222
SUMMARY:Immer noch Klimawandel
URL:https://www.test.naturfreunde-bielefeld.de/index.php?option=com_jem&vie
 w=event&id=806:immer-noch-klimawandel
END:VEVENT
END:VCALENDAR
