
BEGIN:VCALENDAR
VERSION:2.0
PRODID:-//85.13.157.133//NONSGML kigkonsult.se iCalcreator 2.20//
CALSCALE:GREGORIAN
METHOD:PUBLISH
X-WR-TIMEZONE:Europe/Berlin
BEGIN:VEVENT
UID:event810@NaturFreunde Bielefeld e.V.
DTSTAMP:20260422T085607Z
CATEGORIES:Kultur
DESCRIPTION:Bielefeld auf dem Weg zur Klimaneutralität 2030\nKategorie: Kul
 tur\nICS-Link: https://www.test.naturfreunde-bielefeld.de/index.php?option
 =com_jem&view=event&id=810:bielefeld-auf-dem-weg-zur-klimaneutralitaet-203
 0\n
DTSTART;VALUE=DATE:20250328
DTEND;VALUE=DATE:20250329
SUMMARY:Bielefeld auf dem Weg zur Klimaneutralität 2030
URL:https://www.test.naturfreunde-bielefeld.de/index.php?option=com_jem&vie
 w=event&id=810:bielefeld-auf-dem-weg-zur-klimaneutralitaet-2030
END:VEVENT
END:VCALENDAR
