
BEGIN:VCALENDAR
VERSION:2.0
PRODID:-//85.13.157.133//NONSGML kigkonsult.se iCalcreator 2.20//
CALSCALE:GREGORIAN
METHOD:PUBLISH
X-WR-TIMEZONE:Europe/Berlin
BEGIN:VEVENT
UID:event813@NaturFreunde Bielefeld e.V.
DTSTAMP:20260420T061306Z
CATEGORIES:Jugend
DESCRIPTION:SeSon: Veganen Brotaufstrich am Meierhof selber machen\nKategor
 ie: Jugend\nICS-Link: https://www.test.naturfreunde-bielefeld.de/index.php
 ?option=com_jem&view=event&id=813:seson-veganen-brotaufstrich-am-meierhof-
 selber-machen\n
DTSTART;VALUE=DATE:20250223
DTEND;VALUE=DATE:20250224
SUMMARY:SeSon: Veganen Brotaufstrich am Meierhof selber machen
URL:https://www.test.naturfreunde-bielefeld.de/index.php?option=com_jem&vie
 w=event&id=813:seson-veganen-brotaufstrich-am-meierhof-selber-machen
END:VEVENT
END:VCALENDAR
