
BEGIN:VCALENDAR
VERSION:2.0
PRODID:-//85.13.157.133//NONSGML kigkonsult.se iCalcreator 2.20//
CALSCALE:GREGORIAN
METHOD:PUBLISH
X-WR-TIMEZONE:Europe/Berlin
BEGIN:VEVENT
UID:event821@NaturFreunde Bielefeld e.V.
DTSTAMP:20260419T222624Z
CATEGORIES:Mountainbike
DESCRIPTION:NFRF NaturFreunde Riders Festival im Bikepark Beerfelden\nKateg
 orie: Mountainbike\nICS-Link: https://www.test.naturfreunde-bielefeld.de/i
 ndex.php?option=com_jem&view=event&id=821:nfrf-naturfreunde-riders-festiva
 l-im-bikepark-beerfelden\n
DTSTART;VALUE=DATE:20250425
DTEND;VALUE=DATE:20250428
SUMMARY:NFRF NaturFreunde Riders Festival im Bikepark Beerfelden
URL:https://www.test.naturfreunde-bielefeld.de/index.php?option=com_jem&vie
 w=event&id=821:nfrf-naturfreunde-riders-festival-im-bikepark-beerfelden
END:VEVENT
END:VCALENDAR
