
BEGIN:VCALENDAR
VERSION:2.0
PRODID:-//85.13.157.133//NONSGML kigkonsult.se iCalcreator 2.20//
CALSCALE:GREGORIAN
METHOD:PUBLISH
X-WR-TIMEZONE:Europe/Berlin
BEGIN:VEVENT
UID:event822@NaturFreunde Bielefeld e.V.
DTSTAMP:20260420T025622Z
CATEGORIES:Schneesport
DESCRIPTION:Ski- und Snowboardausfahrt ins Sauerland\nKategorie: Schneespor
 t\nICS-Link: https://www.test.naturfreunde-bielefeld.de/index.php?option=c
 om_jem&view=event&id=822:ski-und-snowboardausfahrt-ins-sauerland\n
DTSTART;VALUE=DATE:20250117
DTEND;VALUE=DATE:20250120
SUMMARY:Ski- und Snowboardausfahrt ins Sauerland
URL:https://www.test.naturfreunde-bielefeld.de/index.php?option=com_jem&vie
 w=event&id=822:ski-und-snowboardausfahrt-ins-sauerland
END:VEVENT
END:VCALENDAR
